BEGIN:VCALENDAR
VERSION:2.0
PRODID:-//wp-events-plugin.com//7.2.3.1//EN
BEGIN:VEVENT
UID:12@newfaith.focalat.com
DTSTART:20260117T100000Z
DTEND:20260117T130000Z
DTSTAMP:20260113T120212Z
URL:https://newfaith.focalat.com/events/2026-vision-board-party/
SUMMARY:2026 Vision Board Party
DESCRIPTION:
ATTACH;FMTTYPE=image/jpeg:https://newfaith.focalat.com/wp-content/uploads/
 2026/01/Vision-Board-2026-600x776-1.webp
LOCATION:25 S. Central\, Matteson\, IL - Harvey Hall\, 25 S. Central Ave. (
 Harvey Hall)\, Matteson\, Illinois (IL)\, 60443\, United States
X-APPLE-STRUCTURED-LOCATION;VALUE=URI;X-ADDRESS=25 S. Central Ave. (Harvey 
 Hall)\, Matteson\, Illinois (IL)\, 60443\, United States;X-APPLE-RADIUS=10
 0;X-TITLE=25 S. Central\, Matteson\, IL - Harvey Hall:geo:0,0
END:VEVENT
END:VCALENDAR