BEGIN:VCALENDAR
VERSION:2.0
PRODID:-//wp-events-plugin.com//7.2.3.1//EN
BEGIN:VEVENT
UID:11@newfaith.focalat.com
DTSTART:20260111T110000Z
DTEND:20260111T120000Z
DTSTAMP:20260113T122816Z
URL:https://newfaith.focalat.com/events/cook-county-property-tax-reduction
 /
SUMMARY:Cook County Property Tax Reduction
DESCRIPTION:
ATTACH;FMTTYPE=image/jpeg:https://newfaith.focalat.com/wp-content/uploads/
 2026/01/County-Tax-Reduction-600x464-2.webp
LOCATION:19 S. Central Ave.\, Matteson\, IL 60443\, 19 S. Central Ave.\, Ma
 tteson\, Illinois (IL)\, 60443\, United States
X-APPLE-STRUCTURED-LOCATION;VALUE=URI;X-ADDRESS=19 S. Central Ave.\, Mattes
 on\, Illinois (IL)\, 60443\, United States;X-APPLE-RADIUS=100;X-TITLE=19 S
 . Central Ave.\, Matteson\, IL 60443:geo:0,0
END:VEVENT
END:VCALENDAR