BEGIN:VCALENDAR
VERSION:2.0
PRODID:-//wp-events-plugin.com//7.2.3.1//EN
BEGIN:VEVENT
UID:704@newfaith.focalat.com
DTSTART:20260112T060000Z
DTEND:20261228T063000Z
DTSTAMP:20260113T121733Z
URL:https://newfaith.focalat.com/events/mens-prayer-call/
SUMMARY:Men’s Prayer Call
DESCRIPTION:
ATTACH;FMTTYPE=image/jpeg:https://newfaith.focalat.com/wp-content/uploads/
 2026/01/Web-Monday-Morning-Prayer-2-768x270-1.webp
LOCATION:#
END:VEVENT
END:VCALENDAR