BEGIN:VCALENDAR
VERSION:2.0
PRODID:-//wp-events-plugin.com//7.2.3.1//EN
BEGIN:VEVENT
UID:13@newfaith.focalat.com
DTSTART:20260124T110000Z
DTEND:20260124T130000Z
DTSTAMP:20260113T120601Z
URL:https://newfaith.focalat.com/events/smart-money-moves-for-african-amer
 icans/
SUMMARY:Smart Money Moves for African Americans
DESCRIPTION:
LOCATION:19 S. Central Ave.\, Matteson\, IL 60443\, 19 S. Central Ave.\, Ma
 tteson\, Illinois (IL)\, 60443\, United States
X-APPLE-STRUCTURED-LOCATION;VALUE=URI;X-ADDRESS=19 S. Central Ave.\, Mattes
 on\, Illinois (IL)\, 60443\, United States;X-APPLE-RADIUS=100;X-TITLE=19 S
 . Central Ave.\, Matteson\, IL 60443:geo:0,0
END:VEVENT
END:VCALENDAR